Workbook
Name Culture_Maturity: #REF!

Sheet Notes
C2: Safety Management Framework
C3: Maturity Assessment Tool
A5: 1 | B5: This assessment measures the maturity level of your safety program/culture. The current state is compared to the descriptors on the Culture Descriptors worksheet.
A8: 2 | B8: Complete the assessment by scoring each element for each level, from 0% to 100% achieved, in 20% increments. Element scores for each level are averaged. The Culture Assessment overall maturity level takes the first level less than 100% achieved, and adds 1 for each level before it that is 100% achieved. A 5.0 is the highest score possible.
R10: This assessments is explained and demonstrated in the book Strategic Safety. Click on the button below to learn more about the book.
A13: 3 | B13: Changes to the Elements and Sub-Elements on the Culture Descriptions worksheet are automatically updated on the Culture Assessment worksheets, which has those cells locked.
A16: 4 | B16: The scoring cells have their validation lists built into the cell. If you accidentally delete a scoring cell's content, simply copy and paste a like cell into it.
C19: Copyright © 2026 Sanovus, All Rights Reserved

Sheet Culture Descriptors
A1: Element | B1: Sub-Elements | C1: Levels/Stages
C2: Emergent/ Dismissive/ Blaming | D2: Developed/ Reactive/ Complying | E2: Coordinated Responsive/ Participating | F2: Integrated/ Proactive/ Collaborating | G2: Optimized/ Predictive/ Leading
A3: Visible Leadership | B3: Safety Strategy | C3: Top leaders show no little, if any, involvement in safety, leaving that up to the safety department. No safety expectations are set by leadership. | D3: Top leaders start getting involved in safety by providing resources and setting expectations. There are no formal safety plans or strategy. | E3: Top leaders are clearly communicating their expectations related to safety. Safety goals are being set, along with plans to achieve them. | F3: Top leaders are observed more throughout the workplace being involved with safety. They are engaging with employees on safety matters. | G3: Respect for employee safety is felt through the observable commitment of leadership. Safety leaders exist at all levels. Safety has a strategy..
B4: Clear Expectations
B5: Resources & Support
B6: Visible Presence in the Workplace
B7: Safety Leaders at All Levels
A8: Management Systems | B8: Safety Management System | C8: Management systems are in the early stages of development and Implementation. Safety is not promoted as a priority. | D8: Management systems are developed, and are being Implemented. Awareness programs are in their early stages. | E8: Management responds quickly to incidents, taking both corrective and preventive actions. Safety is becoming an expressed priority. | F8: Management actively identifies ways to control hazards and reduce risk. Safety efforts are proactive, and routinely measured. | G8: Management systems are fully integrated, and follow a continuous improvement cycle. Employees are involved in improving systems.
B9: Policies, Procedures & Processes
B10: Task Management System
B11: Awareness Campaigns
B12: Monthly Reporting
A13: Competent Personnel | B13: Organizational Structure | C13: Some safety training is occurring, but there is no system in place to manage it. Anyone can be placed in a safety role, if there are any set roles. | D13: Efforts are being made to ensure compliance with OSHA requirements. A full time safety position(s) is filled with a knowledgeable person. | E13: A training management system is in place. The focus is on competency rather than mere compliance. Employees are more knowledgeable. | F13: Knowledgeable employees take an active ownership in the safety process. Safety competency is part of the hiring process. | G13: A learning culture creates the capability needed for sustained safety performance. Development plans exist for safety professionals.
B14: Recruiting & Selection Practices
B15: Training Programs
B16: Training Management System
B17: Professional Development & Mentoring
A18: Culture & Comm. | B18: Culture Improvement Projects | C18: Management blames the safety staff for poor performance. Employees blame it on management alone. | D18: Management starts assuming responsibility for safety. Employees comply with safety rules, but do not assume responsibility.. | E18: Management involves supervisors, the first line of defense in safety. Employees participate in the safety process and share responsibility. | F18: Management and employees work together to improve safety. Employees take personal responsibility for their own safety. | G18: Management develops safety leaders at all levels. Employees start leading safety, and take responsibility for the safety of others.
B19: Caring Conversations & Coaching
B20: Safety Committees & Meetings
B21: Toolbox Talks & Job Briefings
B22: Safety Suggestion Program
A23: Contractor Management | B23: Contractor Safety Program | C23: Contractors are being hired without regard for safety, other than contractual requirements to comply with OSHA. | D23: Contractor Safety Program is in place, and safety orientations are being performed prior to work commencing. | E23: Safety programs are being shared between the site and contractors, and a safety pre-qualification process is in place. | F23: Contractor safety observations and post-work evaluations are being conducted. Contractor injury rates are tracked. | G23: Contractor safety performance is analyzed and used to develop strategies for improvement.
B24: Contractor Safety Pre-Qualifications
B25: Contractor Safety Orientation
B26: Contractor Safety Observations
B27: Contractor Safety Evaluations
A28: Risk Management | B28: Risk Profile (Risk Register) | C28: Risk Assessments & Method Statements are developed for field service work when required by customers. | D28: A Risk Profile has been completed, as have any Regulatory Assessments and Surveys required by OSHA regulations. | E28: Hazard Assessment and JSA processes exist, and are coordinated with applicable safety programs. | F28: Ergonomic Analyses are being performed and all risk assessment processes are fully integrated with other safety processes. | G28: All risk assessments are periodically reviewed and revised, and any gaps are taken into consideration for strategic planning.
B29: Regulatory Assessments & Surveys
B30: Risk Assessments & Method Statements
B31: Hazard Assessments & JSAs
B32: Ergonomic Analysis (REBA, RULA, etc.)
A33: Safe Work Processes | B33: Work Authorization Process | C33: Safe Work Procedures (LOTO, CSE, etc.) are being developed and implemented to comply with OSHA regulations. | D33: Software has been implemented to manage safe work processes. Stop Work Authority has been implemented. | E33: Life Saving Rules are in place and coordinated with all of the safety processes, as well as the disciplinary policy. | F33: A work Authorization process and combined Safe Work Permit are implemented to integrate all safe work processes. | G33: Safe Work Permits are periodically reviewed and revised, and any gaps are taken into consideration for strategic planning.
B34: Safe Work Permits
B35: Safe Work Procedures (LOTO, CSE, etc.)
B36: Life Saving Rules
B37: Stop Work Authority
A38: Safe Work Behaviors | B38: Personal Responsibility for Safety | C38: Employees blame poor safety performance on management, and take little or no personal responsibility for it. | D38: Employees comply with safety rules and procedures, but do not assume responsibility for the outcome. | E38: Employees participate in the safety process, perform safety observations, and pursue housekeeping excellence. | F38: Employees work with management to improve safety, and take personal responsibility for their own safety. | G38: Employees start leading safety, and take personal responsibility for their own safety and the safety of others.
B39: Safety Observation Program
B40: Adherence to Safety Rules
B41: Proper Use of PPE
B42: Housekeeping Excellence
A43: Audits & Inspections | B43: Safety Management System Audits | C43: The safety program is not being audited, and safety hazards are not evaluated. Inspections are limited to areas with higher hazards. | D43: Compliance and program audits are commencing. Evaluations are being performed. OSHA required inspections are being performed. | E43: Audits and inspections are incorporated into the management system, and completion of required tasks is managed and measured. | F43: Audits and inspections are fully integrated into business processes, and a continuous improvement cycle is employed. | G43: Compliance with safety standards is impeccable, and the workplace is kept safe. Results are used in predictive analysis.
B44: Compliance & Program Audits
B45: OSHA Mandated Audits & Evaluations
B46: Site Safety Inspections
B47: Safety Equipment Inspections
A48: Change Management | B48: Management of Change (MOC) Procedures | C48: No MOC procedure exists, and changes are made without considering the impact on safety. | D48: Rudimentary MOC procedures are being developed, and are applied to process and engineering changes. | E48: MOC procedures are more developed, and other change types are being evaluated with the process. | F48: MOC procedures are fully developed with a coordinated approval process. The MOC process is integrated with other processes. | G48: All change types are made only when all safety implications have been evaluated and addressed.
B49: Facilities & Equipment Change Mgmt.
B50: Process & Engineering Change Mgmt.
B51: Management Systems Change Mgmt.
B52: Organizational Change Mgmt.
A53: Incident Management | B53: Crisis Management Policy | C53: Management dismisses all but the most serious incidents as being unavoidable, and typically blame those involved. | D53: Management reacts to incidents after they occur, and takes corrective actions. Injury cases are actively managed. | E53: Emergency preparedness and response procedures exist. Incidents response is quick, and both corrective and preventive actions are taken. | F53: Management is actively involved in identifying ways to control hazards and reduce risk even when incidents do not occur. | G53: Management analyzes incidents and leading indicators to predict and prevent future incidents. Crisis management and continuity policies exist.
B54: Emergency Preparedness & Response
B55: Incident Investigation & RCA
B56: Case Management & Return to Work
B57: Business Continuity Plan
A58: Analysis & Strategy | B58: Periodic Management Reviews | C58: The organization takes the Whac-a-Mole or brute force (shotgun) approach to safety. Little, if any, analysis is performed. | D58: The organization starts to analyze safety performance. Plans are created to address more frequent incidents and injuries, but no strategy. | E58: The organization starts to analyze more aspects of safety. Strategies are formed, but execution typically fails to achieve objectives. | F58: All areas of safety are analyzed. Strategies are well-developed, and key players are involved in the execution process | G58: Comprehensive strategies are expertly formulated, and the entire organization is actively involved in the execution process
B59: Performance & Compliance Analysis
B60: Competence & Culture Analysis
B61: Strategic Planning Process
B62: Strategic Safety Plan & Execution

Sheet Culture Assessment
A1: Element | B1: Sub-Elements | C1: Levels/Stages | H1: Maturity Level
C2: Emergent/ Dismissive/ Blaming | D2: Developed/ Reactive/ Complying | E2: Coordinated Responsive/ Participating | F2: Integrated/ Proactive/ Collaborating | G2: Optimized/ Predictive/ Leading
A3: ='Culture Descriptors'!A3:A7 -> Visible Leadership | B3: ='Culture Descriptors'!B3 -> Safety Strategy | H3: =IF(AND(G3=1,SUM(C3:F3)=4),5,IF(AND(F3=1,SUM(C3:E3)=3),4+G3,IF(AND(E3=1,SUM(C3:D3)=2),3+F3,IF(AND(D3=1,C3=1),2+E3,IF(C3=1,1+D3,0))))) -> 0
B4: ='Culture Descriptors'!B4 -> Clear Expectations
B5: ='Culture Descriptors'!B5 -> Resources & Support
B6: ='Culture Descriptors'!B6 -> Visible Presence in the Workplace
B7: ='Culture Descriptors'!B7 -> Safety Leaders at All Levels
A8: ='Culture Descriptors'!A8:A12 -> Management Systems | B8: ='Culture Descriptors'!B8 -> Safety Management System | H8: =IF(AND(G8=1,SUM(C8:F8)=4),5,IF(AND(F8=1,SUM(C8:E8)=3),4+G8,IF(AND(E8=1,SUM(C8:D8)=2),3+F8,IF(AND(D8=1,C8=1),2+E8,IF(C8=1,1+D8,0))))) -> 0
B9: ='Culture Descriptors'!B9 -> Policies, Procedures & Processes
B10: ='Culture Descriptors'!B10 -> Task Management System
B11: ='Culture Descriptors'!B11 -> Awareness Campaigns
B12: ='Culture Descriptors'!B12 -> Monthly Reporting
A13: ='Culture Descriptors'!A13:A17 -> Competent Personnel | B13: ='Culture Descriptors'!B13 -> Organizational Structure | H13: =IF(AND(G13=1,SUM(C13:F13)=4),5,IF(AND(F13=1,SUM(C13:E13)=3),4+G13,IF(AND(E13=1,SUM(C13:D13)=2),3+F13,IF(AND(D13=1,C13=1),2+E13,IF(C13=1,1+D13,0))))) -> 0
B14: ='Culture Descriptors'!B14 -> Recruiting & Selection Practices
B15: ='Culture Descriptors'!B15 -> Training Programs
B16: ='Culture Descriptors'!B16 -> Training Management System
B17: ='Culture Descriptors'!B17 -> Professional Development & Mentoring
A18: ='Culture Descriptors'!A18:A22 -> Culture & Comm. | B18: ='Culture Descriptors'!B18 -> Culture Improvement Projects | H18: =IF(AND(G18=1,SUM(C18:F18)=4),5,IF(AND(F18=1,SUM(C18:E18)=3),4+G18,IF(AND(E18=1,SUM(C18:D18)=2),3+F18,IF(AND(D18=1,C18=1),2+E18,IF(C18=1,1+D18,0))))) -> 0
B19: ='Culture Descriptors'!B19 -> Caring Conversations & Coaching
B20: ='Culture Descriptors'!B20 -> Safety Committees & Meetings
B21: ='Culture Descriptors'!B21 -> Toolbox Talks & Job Briefings
B22: ='Culture Descriptors'!B22 -> Safety Suggestion Program
A23: ='Culture Descriptors'!A23:A27 -> Contractor Management | B23: ='Culture Descriptors'!B23 -> Contractor Safety Program | H23: =IF(AND(G23=1,SUM(C23:F23)=4),5,IF(AND(F23=1,SUM(C23:E23)=3),4+G23,IF(AND(E23=1,SUM(C23:D23)=2),3+F23,IF(AND(D23=1,C23=1),2+E23,IF(C23=1,1+D23,0))))) -> 0
B24: ='Culture Descriptors'!B24 -> Contractor Safety Pre-Qualifications
B25: ='Culture Descriptors'!B25 -> Contractor Safety Orientation
B26: ='Culture Descriptors'!B26 -> Contractor Safety Observations
B27: ='Culture Descriptors'!B27 -> Contractor Safety Evaluations
A28: ='Culture Descriptors'!A28:A32 -> Risk Management | B28: ='Culture Descriptors'!B28 -> Risk Profile (Risk Register) | H28: =IF(AND(G28=1,SUM(C28:F28)=4),5,IF(AND(F28=1,SUM(C28:E28)=3),4+G28,IF(AND(E28=1,SUM(C28:D28)=2),3+F28,IF(AND(D28=1,C28=1),2+E28,IF(C28=1,1+D28,0))))) -> 0
B29: ='Culture Descriptors'!B29 -> Regulatory Assessments & Surveys
B30: ='Culture Descriptors'!B30 -> Risk Assessments & Method Statements
B31: ='Culture Descriptors'!B31 -> Hazard Assessments & JSAs
B32: ='Culture Descriptors'!B32 -> Ergonomic Analysis (REBA, RULA, etc.)
A33: ='Culture Descriptors'!A33:A37 -> Safe Work Processes | B33: ='Culture Descriptors'!B33 -> Work Authorization Process | H33: =IF(AND(G33=1,SUM(C33:F33)=4),5,IF(AND(F33=1,SUM(C33:E33)=3),4+G33,IF(AND(E33=1,SUM(C33:D33)=2),3+F33,IF(AND(D33=1,C33=1),2+E33,IF(C33=1,1+D33,0))))) -> 0
B34: ='Culture Descriptors'!B34 -> Safe Work Permits
B35: ='Culture Descriptors'!B35 -> Safe Work Procedures (LOTO, CSE, etc.)
B36: ='Culture Descriptors'!B36 -> Life Saving Rules
B37: ='Culture Descriptors'!B37 -> Stop Work Authority
A38: ='Culture Descriptors'!A38:A42 -> Safe Work Behaviors | B38: ='Culture Descriptors'!B38 -> Personal Responsibility for Safety | H38: =IF(AND(G38=1,SUM(C38:F38)=4),5,IF(AND(F38=1,SUM(C38:E38)=3),4+G38,IF(AND(E38=1,SUM(C38:D38)=2),3+F38,IF(AND(D38=1,C38=1),2+E38,IF(C38=1,1+D38,0))))) -> 0
B39: ='Culture Descriptors'!B39 -> Safety Observation Program
B40: ='Culture Descriptors'!B40 -> Adherence to Safety Rules
B41: ='Culture Descriptors'!B41 -> Proper Use of PPE
B42: ='Culture Descriptors'!B42 -> Housekeeping Excellence
A43: ='Culture Descriptors'!A43:A47 -> Audits & Inspections | B43: ='Culture Descriptors'!B43 -> Safety Management System Audits | H43: =IF(AND(G43=1,SUM(C43:F43)=4),5,IF(AND(F43=1,SUM(C43:E43)=3),4+G43,IF(AND(E43=1,SUM(C43:D43)=2),3+F43,IF(AND(D43=1,C43=1),2+E43,IF(C43=1,1+D43,0))))) -> 0
B44: ='Culture Descriptors'!B44 -> Compliance & Program Audits
B45: ='Culture Descriptors'!B45 -> OSHA Mandated Audits & Evaluations
B46: ='Culture Descriptors'!B46 -> Site Safety Inspections
B47: ='Culture Descriptors'!B47 -> Safety Equipment Inspections
A48: ='Culture Descriptors'!A48:A52 -> Change Management | B48: ='Culture Descriptors'!B48 -> Management of Change (MOC) Procedures | H48: =IF(AND(G48=1,SUM(C48:F48)=4),5,IF(AND(F48=1,SUM(C48:E48)=3),4+G48,IF(AND(E48=1,SUM(C48:D48)=2),3+F48,IF(AND(D48=1,C48=1),2+E48,IF(C48=1,1+D48,0))))) -> 0
B49: ='Culture Descriptors'!B49 -> Facilities & Equipment Change Mgmt.
B50: ='Culture Descriptors'!B50 -> Process & Engineering Change Mgmt.
B51: ='Culture Descriptors'!B51 -> Management Systems Change Mgmt.
B52: ='Culture Descriptors'!B52 -> Organizational Change Mgmt.
A53: ='Culture Descriptors'!A53:A57 -> Incident Management | B53: ='Culture Descriptors'!B53 -> Crisis Management Policy | H53: =IF(AND(G53=1,SUM(C53:F53)=4),5,IF(AND(F53=1,SUM(C53:E53)=3),4+G53,IF(AND(E53=1,SUM(C53:D53)=2),3+F53,IF(AND(D53=1,C53=1),2+E53,IF(C53=1,1+D53,0))))) -> 0
B54: ='Culture Descriptors'!B54 -> Emergency Preparedness & Response
B55: ='Culture Descriptors'!B55 -> Incident Investigation & RCA
B56: ='Culture Descriptors'!B56 -> Case Management & Return to Work
B57: ='Culture Descriptors'!B57 -> Business Continuity Plan
A58: ='Culture Descriptors'!A58:A62 -> Analysis & Strategy | B58: ='Culture Descriptors'!B58 -> Periodic Management Reviews | H58: =IF(AND(G58=1,SUM(C58:F58)=4),5,IF(AND(F58=1,SUM(C58:E58)=3),4+G58,IF(AND(E58=1,SUM(C58:D58)=2),3+F58,IF(AND(D58=1,C58=1),2+E58,IF(C58=1,1+D58,0))))) -> 0
B59: ='Culture Descriptors'!B59 -> Performance & Compliance Analysis
B60: ='Culture Descriptors'!B60 -> Competence & Culture Analysis
B61: ='Culture Descriptors'!B61 -> Strategic Planning Process
B62: ='Culture Descriptors'!B62 -> Strategic Safety Plan & Execution
A63: Maturity Level | B63: Average Percent Achieved | C63: =IFERROR(AVERAGE(C3:C62),"") | D63: =IFERROR(AVERAGE(D3:D62),"") | E63: =IFERROR(AVERAGE(E3:E62),"") | F63: =IFERROR(AVERAGE(F3:F62),"") | G63: =IFERROR(AVERAGE(G3:G62),"") | H63: =IF(C63<1,C63,IF(AND(G63=1,SUM(C63:F63)=4),5,IF(AND(F63=1,SUM(C63:E63)=3),4+G63,IF(AND(E63=1,SUM(C63:D63)=2),3+F63,IF(AND(D63=1,C63=1),2+E63,IF(C63=1,1+D63,""))))))
B64: Overall Maturity Level | C64: 1 | D64: 2 | E64: 3 | F64: 4 | G64: 5
